BEGIN:VCALENDAR
VERSION:2.0
PRODID:-//Long Point Camp | The Salvation Army Empire State Division - ECPv6.15.16//NONSGML v1.0//EN
CALSCALE:GREGORIAN
METHOD:PUBLISH
X-WR-CALNAME:Long Point Camp | The Salvation Army Empire State Division
X-ORIGINAL-URL:https://longpointcamp.org
X-WR-CALDESC:Events for Long Point Camp | The Salvation Army Empire State Division
REFRESH-INTERVAL;VALUE=DURATION:PT1H
X-Robots-Tag:noindex
X-PUBLISHED-TTL:PT1H
BEGIN:VTIMEZONE
TZID:UTC
BEGIN:STANDARD
TZOFFSETFROM:+0000
TZOFFSETTO:+0000
TZNAME:UTC
DTSTART:20190101T000000
END:STANDARD
END:VTIMEZONE
BEGIN:VTIMEZONE
TZID:America/New_York
BEGIN:DAYLIGHT
TZOFFSETFROM:-0500
TZOFFSETTO:-0400
TZNAME:EDT
DTSTART:20190310T070000
END:DAYLIGHT
BEGIN:STANDARD
TZOFFSETFROM:-0400
TZOFFSETTO:-0500
TZNAME:EST
DTSTART:20191103T060000
END:STANDARD
BEGIN:DAYLIGHT
TZOFFSETFROM:-0500
TZOFFSETTO:-0400
TZNAME:EDT
DTSTART:20200308T070000
END:DAYLIGHT
BEGIN:STANDARD
TZOFFSETFROM:-0400
TZOFFSETTO:-0500
TZNAME:EST
DTSTART:20201101T060000
END:STANDARD
BEGIN:DAYLIGHT
TZOFFSETFROM:-0500
TZOFFSETTO:-0400
TZNAME:EDT
DTSTART:20210314T070000
END:DAYLIGHT
BEGIN:STANDARD
TZOFFSETFROM:-0400
TZOFFSETTO:-0500
TZNAME:EST
DTSTART:20211107T060000
END:STANDARD
END:VTIMEZONE
BEGIN:VTIMEZONE
TZID:UTC
BEGIN:STANDARD
TZOFFSETFROM:+0000
TZOFFSETTO:+0000
TZNAME:UTC
DTSTART:20170101T000000
END:STANDARD
END:VTIMEZONE
BEGIN:VEVENT
DTSTART;TZID=UTC:20200725T150000
DTEND;TZID=UTC:20200725T160000
DTSTAMP:20260423T131345
CREATED:20200710T174758Z
LAST-MODIFIED:20200710T174800Z
UID:1464-1595689200-1595692800@longpointcamp.org
SUMMARY:Virtual Staff Worship
DESCRIPTION:The Long Point Camp Virtual Staff Worship Experience is an opportunity for staff members and alumni to worship\, fellowship\, pray and share Long Point Camp experiences from the past and present.
URL:https://longpointcamp.org/event/virtual-staff-worship/
ATTACH;FMTTYPE=image/jpeg:https://longpointcamp.org/wp-content/uploads/worship-2AJ44NH.jpg
END:VEVENT
BEGIN:VEVENT
DTSTART;TZID=America/New_York:20200725T130000
DTEND;TZID=America/New_York:20200725T140000
DTSTAMP:20260423T131345
CREATED:20200710T173921Z
LAST-MODIFIED:20200721T130030Z
UID:1459-1595682000-1595685600@longpointcamp.org
SUMMARY:Long Point Camp Virtual Experience
DESCRIPTION:The Long Point Camp Virtual Experience is an opportunity for campers from around the Empire State Division to connect with their friends and engage with staff members while participating in interactive activities including songs\, skit night\, arts and crafts and more! \nRegister Now
URL:https://longpointcamp.org/event/long-point-camp-virtual-experience/
ATTACH;FMTTYPE=image/png:https://longpointcamp.org/wp-content/uploads/LPC-Virtual-Camp.png
END:VEVENT
BEGIN:VEVENT
DTSTART;TZID=UTC:20180512T100000
DTEND;TZID=UTC:20180512T140000
DTSTAMP:20260423T131346
CREATED:20160329T121431Z
LAST-MODIFIED:20180313T193140Z
UID:176-1526119200-1526133600@longpointcamp.org
SUMMARY:Long Point Camp Open House
DESCRIPTION:Are your children thinking about attending camp? Are you a parent deciding whether to send your kids to Long Point Camp? We believe once your kids see and experience just a small window of what camp is like they’ll grow comfortable attending a week-long adventure with us! We also want to ensure parents are comfortable with where their children will sleep\, what they’ll eat\, what activities they’ll do and be able to visualize how the camp is laid out. \nUpon arrival\, guests will register at our administration offices located just after you come down the hill in the first building on the left. Guests will then tour the camp to see all that the campers experience at Long Point Camp. At noon\, there will be a camp cookout where parents and kids get a hint of what camp meals might be like. We hope you’ll join us for a day at camp! \nTo attend please rsvp by calling Ann at (315) 434-1371 or email at av***@***************my.org.\n  \n 
URL:https://longpointcamp.org/event/2018-open-house/
LOCATION:Long Point Camp\, 100 Long Point Road\, Penn Yan\, NY\, 14527\, United States
ATTACH;FMTTYPE=image/jpeg:https://longpointcamp.org/wp-content/uploads/35061414444_39f6ef74cd_k.jpg
END:VEVENT
END:VCALENDAR